BEGIN:VCALENDAR
VERSION:2.0
PRODID:Uitslagen.nl
CALSCALE:GREGORIAN
BEGIN:VEVENT
UID:2026032651356
DTSTAMP:20260326T000000
DTSTART:20260326
DTEND:20260327
SUMMARY:Brewery Run Rotterdam
URL:https://www.breweryrun.nl
LOCATION:Rotterdam, Zuid-Holland
GEO:51.923207;4.484996
URL:https://www.breweryrun.nl
END:VEVENT
END:VCALENDAR
