BEGIN:VCALENDAR
VERSION:2.0
PRODID:Uitslagen.nl
CALSCALE:GREGORIAN
BEGIN:VEVENT
UID:2026031405155
DTSTAMP:20260314T000000
DTSTART:20260314
DTEND:20260315
SUMMARY:Run2Day Vlinderloop
URL:https://www.vlinderloop.nl
LOCATION:Houten, Utrecht
GEO:52.018158;5.14991
URL:https://www.vlinderloop.nl
END:VEVENT
END:VCALENDAR
