BEGIN:VCALENDAR
VERSION:2.0
PRODID:Uitslagen.nl
CALSCALE:GREGORIAN
BEGIN:VEVENT
UID:2026030751697
DTSTAMP:20260307T000000
DTSTART:20260307
DTEND:20260308
SUMMARY:All4running Shoe Experience
URL:https://all4running.nl/blog/shoe-experience/
LOCATION:Utrecht, Utrecht
GEO:52.079599;5.156512
URL:https://all4running.nl/blog/shoe-experience/
END:VEVENT
END:VCALENDAR
