BEGIN:VCALENDAR
VERSION:2.0
PRODID:Uitslagen.nl
CALSCALE:GREGORIAN
BEGIN:VEVENT
UID:2026022811215
DTSTAMP:20260228T000000
DTSTART:20260228
DTEND:20260301
SUMMARY:Ravelijnloop
URL:https://www.rkhav.nl
LOCATION:Hulst, Zeeland
GEO:51.284482;4.05204
URL:https://www.rkhav.nl
END:VEVENT
END:VCALENDAR
