BEGIN:VCALENDAR
VERSION:2.0
PRODID:Uitslagen.nl
CALSCALE:GREGORIAN
BEGIN:VEVENT
UID:2025120750057
DTSTAMP:20251207T000000
DTSTART:20251207
DTEND:20251208
SUMMARY:Bosbaanrun
URL:https://amsterdamsesportunie.com/evenementen/bosbaanrun/
LOCATION:Amsterdam, Noord-Holland
GEO:52.329505;4.849525
URL:https://amsterdamsesportunie.com/evenementen/bosbaanrun/
END:VEVENT
END:VCALENDAR
