BEGIN:VCALENDAR
VERSION:2.0
PRODID:Uitslagen.nl
CALSCALE:GREGORIAN
BEGIN:VEVENT
UID:2025113000441
DTSTAMP:20251130T000000
DTSTART:20251130
DTEND:20251201
SUMMARY:Pietenloop Bemmel
URL:https://www.boddesprinters.nl/pietenloop/
LOCATION:Bemmel, Gelderland
GEO:51.893667;5.914941
URL:https://www.boddesprinters.nl/pietenloop/
END:VEVENT
END:VCALENDAR
