BEGIN:VCALENDAR
VERSION:2.0
PRODID:Uitslagen.nl
CALSCALE:GREGORIAN
BEGIN:VEVENT
UID:2025110151204
DTSTAMP:20251101T000000
DTSTART:20251101
DTEND:20251102
SUMMARY:Veluwse Winter Competitie
URL:https://www.mtb-competitie.nl
LOCATION:Meerdere plaatsen, Gelderland
GEO:52.073309;5.964916
URL:https://www.mtb-competitie.nl
END:VEVENT
END:VCALENDAR
