BEGIN:VCALENDAR
VERSION:2.0
PRODID:Uitslagen.nl
CALSCALE:GREGORIAN
BEGIN:VEVENT
UID:2025102511231
DTSTAMP:20251025T000000
DTSTART:20251025
DTEND:20251026
SUMMARY:Scheldesportloop
URL:https://www.avscheldesport.nl
LOCATION:Terneuzen, Zeeland
GEO:51.32747;3.847744
URL:https://www.avscheldesport.nl
END:VEVENT
END:VCALENDAR
