BEGIN:VCALENDAR
VERSION:2.0
PRODID:Uitslagen.nl
CALSCALE:GREGORIAN
BEGIN:VEVENT
UID:2025092751042
DTSTAMP:20250927T000000
DTSTART:20250927
DTEND:20250928
SUMMARY:RoldertorenRun
URL:https://roldertorenrun.nl
LOCATION:Rolde, Drenthe
GEO:52.98923;6.646568
URL:https://roldertorenrun.nl
END:VEVENT
END:VCALENDAR
