BEGIN:VCALENDAR
VERSION:2.0
PRODID:Uitslagen.nl
CALSCALE:GREGORIAN
BEGIN:VEVENT
UID:2025092000652
DTSTAMP:20250920T000000
DTSTART:20250920
DTEND:20250921
SUMMARY:Crosstriathlon TVZ
URL:https://www.tvz-zeewolde.nl
LOCATION:Zeewolde, Flevoland
GEO:52.311569;5.545891
URL:https://www.tvz-zeewolde.nl
END:VEVENT
END:VCALENDAR
