BEGIN:VCALENDAR
VERSION:2.0
PRODID:Uitslagen.nl
CALSCALE:GREGORIAN
BEGIN:VEVENT
UID:2025091950677
DTSTAMP:20250919T000000
DTSTART:20250919
DTEND:20250920
SUMMARY:Nedmag Moonlightwalk
URL:https://moonlightwalk.nl
LOCATION:Veendam, Groningen
GEO:53.107424;6.87706
URL:https://moonlightwalk.nl
END:VEVENT
END:VCALENDAR
