BEGIN:VCALENDAR
VERSION:2.0
PRODID:Uitslagen.nl
CALSCALE:GREGORIAN
BEGIN:VEVENT
UID:2025091451507
DTSTAMP:20250914T000000
DTSTART:20250914
DTEND:20250915
SUMMARY:Vlietloop Voorschoten
URL:https://www.vlietloop.nl
LOCATION:Voorschoten, Zuid-Holland
GEO:52.125191;4.443996
URL:https://www.vlietloop.nl
END:VEVENT
END:VCALENDAR
