BEGIN:VCALENDAR
VERSION:2.0
PRODID:Uitslagen.nl
CALSCALE:GREGORIAN
BEGIN:VEVENT
UID:2025091305155
DTSTAMP:20250913T000000
DTSTART:20250913
DTEND:20250914
SUMMARY:Run2Day Vlinderloop
URL:https://www.vlinderloop.nl
LOCATION:Houten, Utrecht
GEO:52.018158;5.14991
URL:https://www.vlinderloop.nl
END:VEVENT
END:VCALENDAR
